BEGIN:VCALENDAR
VERSION:2.0
PRODID:-//Pfadi Seuzi - ECPv6.15.20//NONSGML v1.0//EN
CALSCALE:GREGORIAN
METHOD:PUBLISH
X-WR-CALNAME:Pfadi Seuzi
X-ORIGINAL-URL:https://www.pfadiseuzi.ch
X-WR-CALDESC:Veranstaltungen im Pfadi Seuzi
REFRESH-INTERVAL;VALUE=DURATION:PT1H
X-Robots-Tag:noindex
X-PUBLISHED-TTL:PT1H
BEGIN:VTIMEZONE
TZID:Europe/Zurich
BEGIN:DAYLIGHT
TZOFFSETFROM:+0100
TZOFFSETTO:+0200
TZNAME:CEST
DTSTART:20250330T010000
END:DAYLIGHT
BEGIN:STANDARD
TZOFFSETFROM:+0200
TZOFFSETTO:+0100
TZNAME:CET
DTSTART:20251026T010000
END:STANDARD
BEGIN:DAYLIGHT
TZOFFSETFROM:+0100
TZOFFSETTO:+0200
TZNAME:CEST
DTSTART:20260329T010000
END:DAYLIGHT
BEGIN:STANDARD
TZOFFSETFROM:+0200
TZOFFSETTO:+0100
TZNAME:CET
DTSTART:20261025T010000
END:STANDARD
BEGIN:DAYLIGHT
TZOFFSETFROM:+0100
TZOFFSETTO:+0200
TZNAME:CEST
DTSTART:20270328T010000
END:DAYLIGHT
BEGIN:STANDARD
TZOFFSETFROM:+0200
TZOFFSETTO:+0100
TZNAME:CET
DTSTART:20271031T010000
END:STANDARD
END:VTIMEZONE
BEGIN:VEVENT
DTSTART;TZID=Europe/Zurich:20260509T000000
DTEND;TZID=Europe/Zurich:20260509T235959
DTSTAMP:20260421T145102
CREATED:20251219T143637Z
LAST-MODIFIED:20251219T143637Z
UID:1876-1778284800-1778371199@www.pfadiseuzi.ch
SUMMARY:Zeitungssammeln 2026
DESCRIPTION:Die Pfadi- und Piostufe werden gemeinsam mit dem Leitungsteam die Bewohner von Seuzach von ihrem Papier befreien. Wenn ihr uns finanziell unterstützen wollt\, könnt ihr ganz einfach ein paar Bündel Papier oder Karton für uns bereitstellen. Wir sagen schon jetzt vielen Dank für die Unterstützung!
URL:https://www.pfadiseuzi.ch/event/zeitungssammeln-2026/
CATEGORIES:Aktionen
END:VEVENT
BEGIN:VEVENT
DTSTART;TZID=Europe/Zurich:20260514T000000
DTEND;TZID=Europe/Zurich:20260517T235959
DTSTAMP:20260421T145102
CREATED:20251219T143913Z
LAST-MODIFIED:20260404T064930Z
UID:1879-1778716800-1779062399@www.pfadiseuzi.ch
SUMMARY:AuLa 2026 (Pfadi)
DESCRIPTION:AuLa mit der Pfadi NeWa (https://www.pfadinewa.ch/) \nDatum: 14.05.2026 – 17.05.2026 \nOrt: Hof Wyden\, Teufen ZH (https://hof-wyden.ch/) \nAnmeldung: via versendetes Mail bis am 15.04.2026 \nKontakt: Aiden Rufli v/o Delta \n  \n 
URL:https://www.pfadiseuzi.ch/event/aula-pfadi-2026/
CATEGORIES:Lager
END:VEVENT
BEGIN:VEVENT
DTSTART;TZID=Europe/Zurich:20260523T000000
DTEND;TZID=Europe/Zurich:20260525T235959
DTSTAMP:20260421T145102
CREATED:20251219T144157Z
LAST-MODIFIED:20251219T144157Z
UID:1883-1779494400-1779753599@www.pfadiseuzi.ch
SUMMARY:PfiLa 2026 (Wolf)
DESCRIPTION:PfiLa mit Wart (https://ch.pfadiwart.ch/) \nweitere Infos folgen
URL:https://www.pfadiseuzi.ch/event/pfila-2026-wolf/
CATEGORIES:Lager
END:VEVENT
BEGIN:VEVENT
DTSTART;TZID=Europe/Zurich:20260530T000000
DTEND;TZID=Europe/Zurich:20260530T235959
DTSTAMP:20260421T145102
CREATED:20251219T144655Z
LAST-MODIFIED:20251219T144655Z
UID:1886-1780099200-1780185599@www.pfadiseuzi.ch
SUMMARY:Tag der guten Tat 2026
DESCRIPTION:Dieses Jahr nimmt die Pfadi Seuzi zum ersten Mal offiziell am Tag der guten Tat von Coop teil. Was unsere gute Tat ist\, folgt bald. \nInfos: https://www.taten-statt-worte.ch/
URL:https://www.pfadiseuzi.ch/event/tdgt-2026/
CATEGORIES:Aktionen
END:VEVENT
BEGIN:VEVENT
DTSTART;TZID=Europe/Zurich:20260711T000000
DTEND;TZID=Europe/Zurich:20260725T235959
DTSTAMP:20260421T145102
CREATED:20251219T145208Z
LAST-MODIFIED:20251219T145208Z
UID:1888-1783728000-1785023999@www.pfadiseuzi.ch
SUMMARY:SoLa 2026
DESCRIPTION:weitere Infos folgen
URL:https://www.pfadiseuzi.ch/event/sola-2026/
CATEGORIES:Lager
END:VEVENT
BEGIN:VEVENT
DTSTART;TZID=Europe/Zurich:20261031T000000
DTEND;TZID=Europe/Zurich:20261101T235959
DTSTAMP:20260421T145102
CREATED:20251219T145517Z
LAST-MODIFIED:20251219T145517Z
UID:1897-1793404800-1793577599@www.pfadiseuzi.ch
SUMMARY:Week'nd 2026
DESCRIPTION:weitere Infos folgen
URL:https://www.pfadiseuzi.ch/event/weeknd-2026/
CATEGORIES:Lager
END:VEVENT
BEGIN:VEVENT
DTSTART;TZID=Europe/Zurich:20261212T000000
DTEND;TZID=Europe/Zurich:20261212T235959
DTSTAMP:20260421T145102
CREATED:20251219T145407Z
LAST-MODIFIED:20251219T145407Z
UID:1894-1797033600-1797119999@www.pfadiseuzi.ch
SUMMARY:WaWei 2026
DESCRIPTION:weitere Infos folgen
URL:https://www.pfadiseuzi.ch/event/wawei-2026/
CATEGORIES:Specials
END:VEVENT
END:VCALENDAR