BEGIN:VCALENDAR
VERSION:2.0
PRODID:-//Pfadi Seuzi - ECPv6.15.20//NONSGML v1.0//EN
CALSCALE:GREGORIAN
METHOD:PUBLISH
X-WR-CALNAME:Pfadi Seuzi
X-ORIGINAL-URL:https://www.pfadiseuzi.ch
X-WR-CALDESC:Veranstaltungen im Pfadi Seuzi
REFRESH-INTERVAL;VALUE=DURATION:PT1H
X-Robots-Tag:noindex
X-PUBLISHED-TTL:PT1H
BEGIN:VTIMEZONE
TZID:Europe/Zurich
BEGIN:DAYLIGHT
TZOFFSETFROM:+0100
TZOFFSETTO:+0200
TZNAME:CEST
DTSTART:20250330T010000
END:DAYLIGHT
BEGIN:STANDARD
TZOFFSETFROM:+0200
TZOFFSETTO:+0100
TZNAME:CET
DTSTART:20251026T010000
END:STANDARD
BEGIN:DAYLIGHT
TZOFFSETFROM:+0100
TZOFFSETTO:+0200
TZNAME:CEST
DTSTART:20260329T010000
END:DAYLIGHT
BEGIN:STANDARD
TZOFFSETFROM:+0200
TZOFFSETTO:+0100
TZNAME:CET
DTSTART:20261025T010000
END:STANDARD
BEGIN:DAYLIGHT
TZOFFSETFROM:+0100
TZOFFSETTO:+0200
TZNAME:CEST
DTSTART:20270328T010000
END:DAYLIGHT
BEGIN:STANDARD
TZOFFSETFROM:+0200
TZOFFSETTO:+0100
TZNAME:CET
DTSTART:20271031T010000
END:STANDARD
END:VTIMEZONE
BEGIN:VEVENT
DTSTART;TZID=Europe/Zurich:20260314T000000
DTEND;TZID=Europe/Zurich:20260314T235959
DTSTAMP:20260422T022139
CREATED:20251219T142925Z
LAST-MODIFIED:20260401T170538Z
UID:1871-1773446400-1773532799@www.pfadiseuzi.ch
SUMMARY:Pfadischnuppertag
DESCRIPTION:Am Samstag\, 14. März 2026\, öffnen über 350 Pfadiabteilungen ihre Pfadiheime und laden zu Entdeckungstouren auf geheimen Waldwegen ein. Auch die Pfadi Seuzi macht mit und heisst alle interessierten Kinder und Jugendlichen herzlich willkommen. Hast du Lust\, Pfadiluft zu schnuppern und einen spannenden Nachmittag voller Abenteuer zu erleben? Dann komm vorbei – wir freuen uns auf dich! \n  \nDen Anschlag findest du hier\nFür Stufeneinteilung: Stufen \n 
URL:https://www.pfadiseuzi.ch/event/pfadischnuppertag/
CATEGORIES:Aktionen
ATTACH;FMTTYPE=image/jpeg:https://www.pfadiseuzi.ch/wp-content/uploads/2025/12/Insta-Beitrag_Nacht_1080x1350_DE.jpg
END:VEVENT
BEGIN:VEVENT
DTSTART;TZID=Europe/Zurich:20260328T120000
DTEND;TZID=Europe/Zurich:20260328T170000
DTSTAMP:20260422T022139
CREATED:20251126T132122Z
LAST-MODIFIED:20260128T205116Z
UID:1784-1774699200-1774717200@www.pfadiseuzi.ch
SUMMARY:Osteraktion 2026
DESCRIPTION:Liebe Eltern\, liebe Kinder \nAm 28. März komme ich\, der Osterhase\, nach Seuzi in den Rösslipark. Zusammen mit der Pfadi Seuzi haben wir abwechslungsreiche Aktivitäten geplant. Während dem ganzen Nachmittag könnt ihr euch auch am vielfältigen Kuchenbuffet bedienen. Und wie letztes Jahr gibt es auch eine Mocktailbar mit verschiedenen Drinks. Für jeden ist etwas dabei! \nOA26_Flyer \n  \nWir freuen uns auf euch! \nDer Osterhase und das Leitungsteam der Pfadi Seuzi \n 
URL:https://www.pfadiseuzi.ch/event/osteraktion-2026/
LOCATION:Rösslipark
CATEGORIES:Aktionen
ATTACH;FMTTYPE=image/png:https://www.pfadiseuzi.ch/wp-content/uploads/2025/11/OA26_batch.png
END:VEVENT
END:VCALENDAR